BEGIN:VCALENDAR
VERSION:2.0
PRODID:-//New Mexico Network for Women in Science and Engineering - ECPv5.4.0.2//NONSGML v1.0//EN
CALSCALE:GREGORIAN
METHOD:PUBLISH
X-WR-CALNAME:New Mexico Network for Women in Science and Engineering
X-ORIGINAL-URL:https://nmnwse.org
X-WR-CALDESC:Events for New Mexico Network for Women in Science and Engineering
BEGIN:VTIMEZONE
TZID:America/Denver
BEGIN:DAYLIGHT
TZOFFSETFROM:-0700
TZOFFSETTO:-0600
TZNAME:MDT
DTSTART:20260308T090000
END:DAYLIGHT
BEGIN:STANDARD
TZOFFSETFROM:-0600
TZOFFSETTO:-0700
TZNAME:MST
DTSTART:20261101T080000
END:STANDARD
END:VTIMEZONE
BEGIN:VEVENT
DTSTART;TZID=America/Denver:20261025T090000
DTEND;TZID=America/Denver:20261025T120000
DTSTAMP:20260419T100811
CREATED:20260401T022829Z
LAST-MODIFIED:20260401T022829Z
UID:2246-1792918800-1792929600@nmnwse.org
SUMMARY:NMNWSE Board Meeting
DESCRIPTION:Sunday 25 October in Valencia County (Hybrid)
URL:https://nmnwse.org/calendar/nmnwse-board-meeting-2/
END:VEVENT
END:VCALENDAR