BEGIN:VCALENDAR
VERSION:2.0
PRODID:-//New Mexico Network for Women in Science and Engineering - ECPv5.4.0.2//NONSGML v1.0//EN
CALSCALE:GREGORIAN
METHOD:PUBLISH
X-WR-CALNAME:New Mexico Network for Women in Science and Engineering
X-ORIGINAL-URL:https://nmnwse.org
X-WR-CALDESC:Events for New Mexico Network for Women in Science and Engineering
BEGIN:VTIMEZONE
TZID:America/Denver
BEGIN:DAYLIGHT
TZOFFSETFROM:-0700
TZOFFSETTO:-0600
TZNAME:MDT
DTSTART:20260308T090000
END:DAYLIGHT
BEGIN:STANDARD
TZOFFSETFROM:-0600
TZOFFSETTO:-0700
TZNAME:MST
DTSTART:20261101T080000
END:STANDARD
END:VTIMEZONE
BEGIN:VEVENT
DTSTART;TZID=America/Denver:20261023T083000
DTEND;TZID=America/Denver:20261023T133000
DTSTAMP:20260419T100157
CREATED:20260401T022720Z
LAST-MODIFIED:20260401T022720Z
UID:2242-1792744200-1792762200@nmnwse.org
SUMMARY:Exploring the Possibilities @ UNM Valencia
DESCRIPTION:
URL:https://nmnwse.org/calendar/exploring-the-possibilities-unm-valencia/
END:VEVENT
END:VCALENDAR