BEGIN:VCALENDAR
VERSION:2.0
PRODID:-//New Mexico Network for Women in Science and Engineering - ECPv5.4.0.2//NONSGML v1.0//EN
CALSCALE:GREGORIAN
METHOD:PUBLISH
X-WR-CALNAME:New Mexico Network for Women in Science and Engineering
X-ORIGINAL-URL:https://nmnwse.org
X-WR-CALDESC:Events for New Mexico Network for Women in Science and Engineering
BEGIN:VTIMEZONE
TZID:America/Denver
BEGIN:DAYLIGHT
TZOFFSETFROM:-0700
TZOFFSETTO:-0600
TZNAME:MDT
DTSTART:20250309T090000
END:DAYLIGHT
BEGIN:STANDARD
TZOFFSETFROM:-0600
TZOFFSETTO:-0700
TZNAME:MST
DTSTART:20251102T080000
END:STANDARD
END:VTIMEZONE
BEGIN:VEVENT
DTSTART;TZID=America/Denver:20250301T130000
DTEND;TZID=America/Denver:20250301T150000
DTSTAMP:20260420T163358
CREATED:20250226T001831Z
LAST-MODIFIED:20250226T001831Z
UID:2056-1740834000-1740841200@nmnwse.org
SUMMARY:An afternoon of dance by Keshet Dance Company
DESCRIPTION:
URL:https://nmnwse.org/calendar/an-afternoon-of-dance-by-keshet-dance-company/
END:VEVENT
END:VCALENDAR