BEGIN:VCALENDAR
VERSION:2.0
PRODID:-//New Mexico Network for Women in Science and Engineering - ECPv5.4.0.2//NONSGML v1.0//EN
CALSCALE:GREGORIAN
METHOD:PUBLISH
X-WR-CALNAME:New Mexico Network for Women in Science and Engineering
X-ORIGINAL-URL:https://nmnwse.org
X-WR-CALDESC:Events for New Mexico Network for Women in Science and Engineering
BEGIN:VTIMEZONE
TZID:America/Denver
BEGIN:DAYLIGHT
TZOFFSETFROM:-0700
TZOFFSETTO:-0600
TZNAME:MDT
DTSTART:20240310T090000
END:DAYLIGHT
BEGIN:STANDARD
TZOFFSETFROM:-0600
TZOFFSETTO:-0700
TZNAME:MST
DTSTART:20241103T080000
END:STANDARD
END:VTIMEZONE
BEGIN:VEVENT
DTSTART;TZID=America/Denver:20241206T083000
DTEND;TZID=America/Denver:20241206T130000
DTSTAMP:20260420T120530
CREATED:20240923T031138Z
LAST-MODIFIED:20240923T031138Z
UID:1981-1733473800-1733490000@nmnwse.org
SUMMARY:Las Cruces: Exploring the Possibilities STEM workshops for Young Women
DESCRIPTION:NMNWSE invites middle school and high school students in Las Cruces and surrounding communities to attend a one day conference with hands-on technical career workshops designed to help students explore STEM career options. \nLunch and morning snacks will be provided to all. \nInterested students and teachers should contact:\nDr. Jo Latorre\, Coordinator\np: 914-552-1512\ne: jlat68@nmsu.edu
URL:https://nmnwse.org/calendar/las-cruces-exploring-the-possibilities-stem-workshops-for-young-women/
LOCATION:Dona Ana Community College\, 2800 Sonoma Ranch Blvd\, Las Cruces\, NM\, 88001\, United States
ORGANIZER;CN="Jo%20Latorre":MAILTO:jlat68@nmsu.edu 
END:VEVENT
END:VCALENDAR