BEGIN:VCALENDAR
VERSION:2.0
PRODID:-//New Mexico Network for Women in Science and Engineering - ECPv5.4.0.2//NONSGML v1.0//EN
CALSCALE:GREGORIAN
METHOD:PUBLISH
X-WR-CALNAME:New Mexico Network for Women in Science and Engineering
X-ORIGINAL-URL:https://nmnwse.org
X-WR-CALDESC:Events for New Mexico Network for Women in Science and Engineering
BEGIN:VTIMEZONE
TZID:America/Denver
BEGIN:DAYLIGHT
TZOFFSETFROM:-0700
TZOFFSETTO:-0600
TZNAME:MDT
DTSTART:20240310T090000
END:DAYLIGHT
BEGIN:STANDARD
TZOFFSETFROM:-0600
TZOFFSETTO:-0700
TZNAME:MST
DTSTART:20241103T080000
END:STANDARD
END:VTIMEZONE
BEGIN:VEVENT
DTSTART;TZID=America/Denver:20240927T074500
DTEND;TZID=America/Denver:20240927T133000
DTSTAMP:20260420T061948
CREATED:20240823T173249Z
LAST-MODIFIED:20240823T180420Z
UID:1952-1727423100-1727443800@nmnwse.org
SUMMARY:REGISTER NOW: Exploring the Possibilities STEM workshops for Young Women
DESCRIPTION:This Moriarty STEM conference for girls to be held on September 27th 2024 is looking for volunteers to help with the conference as well as students and teachers interested in attending. \nRegistration closes on September 20th at 9:00pm \nView Flyer \n[mk_button dimension=”flat” corner_style=”pointed” size=”medium” url=”https://form.jotform.com/242166973304155″ bg_color=”#03c6ca” btn_hover_bg=”#efcd21″ text_color=”dark”]Register Now[/mk_button]\n  \n  \n  \nOpening Session\nAs one of the opening events of this year’s MESD STEM day\, Dr. Curtis O’Malley and a group of his students from the NMT Mechanical Engineering Department Outreach program will present. To begin the presentation\, the group will explain their paths throughout STEM\, where they currently are in their various STEM careers\, and their plans for the future. This introduction to the outreach crew will contain a sneak peek into some of the past\, current\, and future projects that the outreach crew is working on. We hope to introduce different corners of STEM that some don’t automatically realize are STEM-related but can lead to very captivating careers. After the presentation and (hopefully) time to field questions\, the team will demonstrate some of the awesome robots that our outreach team works on. \n\n  \nSponsors\nSponsored by NMNWSE\,  IWF NM\, and Agilent in conjunction with NM MESA. Thank you!
URL:https://nmnwse.org/calendar/register-now-exploring-the-possibilities-stem-workshops-for-young-women/
LOCATION:Moriarty HS Campus\, 1200 center ave\, Moriarty\, NM\, 87035\, United States
ATTACH;FMTTYPE=image/jpeg:https://nmnwse.org/wp-content/uploads/2024/06/etp-moriarty-flyer.jpg
END:VEVENT
END:VCALENDAR